Workbook
Name Print_Area_MI: #REF!
Name Print_Area_MI: #REF!
Name ㅁ1: #REF!
Name ㅁ1: #REF!
Name ㅁ60: [21]직노!#REF!
Name ㅁ60: [21]직노!#REF!
Name 일위대가집계표: [24]일위대가집계표!$C$5:$M$42
Name 일의01: [21]직노!#REF!
Name 일의01: [21]직노!#REF!
Name 전기단가1: '[25]단가비교표(전기)'!$C$4:$P$197
Name 전기단가1: '[24]단가비교표(전기)'!$C$4:$N$45
Name 전기품: [25]품셈!$B$1:$O$451
Name 청마총괄: [26]실행내역!#REF!
Name 청마총괄: [26]실행내역!#REF!
Name 총괄표: [26]실행내역!#REF!
Name 총괄표: [26]실행내역!#REF!
Name ㅎ314: #REF!
Name ㅎ314: #REF!

Sheet 표지
A3: 춘천 2026 세계태권도품새선수권대회
A4: 공식여행사 선정 및 수송·숙박업무 대행 용역
A7: 2026. 2.
A11: (재)춘천레저·태권도조직위원회

Sheet 예산서
A1: 2026년 2월 일 | C1: 설계자 | E1: 심사자 | G1: 총괄 부장 | I1: 사무 총장 | K1: 위원장
A4: 춘천 2026 세계태권도품새선수권대회
A5: 공식여행사 선정 및 수송·숙박업무 대행 용역
B8: □ 용역개요 : | C8: 공식여행사 선정 및 수송·숙박업무 대행 용역 1식
B10: - 행 사 명: 춘천 2026 세계태권도품새선수권대회
B11: - 대행 기간: 계약일 ~ 2026. 11. 18.(대회종료일로부터 60일까지)
B12: - 사업 내용: 춘천 2026 세계태권도품새선수권대회 공식여행사로 해외선수 유치 및 수송·숙박업무 대행
B16: □ 총사업비 : | C16: ="금"&NUMBERSTRING(총괄표!D13,1)&"원정" -> 금오억이십구만원정 | G16: ="\"&FIXED(총괄표!D13,0)&" (VAT포함금액)" -> \500,290,000 (VAT포함금액)

Sheet 설계설명
A1: 설 계 설 명 서
A2: 1. 사업의 명칭 | B2: 1) 춘천 2026 세계태권도품새선수권대회 공식여행사 선정 및 수송·숙박업무 대행 용역··
A4: 2. 과업의 목적 | B4: 1) 춘천 2026 세계태권도품새선수권대회의 성공개최를 위한 해외선수 유치 및 참가 선수임원에게 안정된 수송 및 숙박 제공
B5: 2) 전문대행사가 가지고 있는 업무에 대한 전문성과 효율성 극대화
A7: 3. 사업의 범위 | B7: 1) 개 요
B8: - 대회참가 해외선수 모객 및 선수 등록대행, 통역전문가 배치
B9: - 참가선수 공항영접, VIP 의전 및 숙소관리자(안전관리) 배치
B10: - 선수수송 및 시내 관광 계획수립 및 운영
B11: - 대행사업비 집행계획 수립 및 대행사업비 정산서·증빙서류 제출
B12: 2) 범 위
B13: - 대행기간 : 계약일 ~ 2026. 11. 18.(대회종료일로부터 60일까지)
B14: - 행사내용 : 제안요청서 참조
A16: 4. 사업기간 | B16: 1) 본 사업의 수행기간은 계약일로부터 대회종료 후 정산서 제출까지 이며, 다음 사항에 대하여 본 조직위원회의 승인을 득한 후 기간을 조정할 수 있다.
B17: - 천재지변으로 인하여 과업수행에 차질 발생이 불기피한 경우
B18: - 조직위원회 방침변경 또는 지시에 의하여 과업이 변경되거나 중단되었을 때
B19: - 기타 불가피한 상황이 발생 되었을 때
A21: 5. 기타사항 | B21: 1) 수급인은 본 용역의 제안요청서와 관련 법규정, 지침에 따라 제반사항을 성실히 이행하여야 하며, 제안한 사항의 질과 정확도에 대하여 전적인 책임을 진다.
B22: 2) 기타 제안과 관련된 사항은 본 조직위원회에서 임명한 감독직원의 지휘를 받아 성실히 수행한다.

Sheet 총괄표
A1: 춘천 2026 세계태권도품새선수권대회 수송·숙박업무 대행 예산
A2: (단위 : 원)
A3: 구분 | B3: 예산액 | C3: 이행수수료 | D3: 소계 | E3: 산출내역 | F3: 비고
A4: ① 1. VIP 및 관계위원 (기술, 소청위원 및 본부임원 등) 숙식비 | B4: ='세부산출 내역서'!G18 -> 70530000 | C4: =B4*0.1 -> 7053000 | D4: =SUM(B4:C4) -> 77583000 | E4: · VIP 및 관계위원 숙박(1인실) 및 식사 지원 - 숙박: 87객실 / 식사: 591식
A5: ② 경기임원 및 국제심판 숙식비 | B5: ='세부산출 내역서'!G23 -> 61000000 | C5: =B5*0.1 -> 6100000 | D5: =SUM(B5:C5) -> 67100000 | E5: · 임원 및 심판 숙박(2인실) 및 식사 지원 - 숙박: (경기임원) 65객실, (국제심판) 25객실 / 식사: 1,250식
A6: ③ 초청국가(선수단) 지원 숙식비 | B6: ='세부산출 내역서'!G28 -> 25920000 | C6: =B6*0.1 -> 2592000 | D6: =SUM(B6:C6) -> 28512000 | E6: · 선수단 숙박 및 식사 지원 - (시범단) 36객실 / (저소득국가 선수단) 90객실
A7: ④ 수송운영 | B7: ='세부산출 내역서'!G39 -> 211700000 | C7: =B7*0.1 -> 21170000 | D7: =SUM(B7:C7) -> 232870000 | E7: · 항공료(기술위원, 경기위원, 저소득국가 선수단): 25명 · 수송차량 임차료(입출국 144대, 셔틀 106대, 렌트 50대)
A8: ⑤ 인력운영(지원인력 수당) | B8: ='세부산출 내역서'!G44 -> 44940000 | C8: =B8*0.1 -> 4494000 | D8: =SUM(B8:C8) -> 49434000 | E8: · 공항영접, 호텔데스크, 안내센터, 해외전담인력 수당 - 공항영접 12명, 데스크 21명, 안내센터 2명, 해외전담인력 1명
A9: ⑥ 대회지원요원 숙식비 | B9: ='세부산출 내역서'!G51 -> 16215000 | C9: =B9*0.1 -> 1621500 | D9: =SUM(B9:C9) -> 17836500 | E9: · 공항영접, 호텔데스크, 안내센터, 해외전담인력 숙식 지원: 131객실 / 254식
A10: ⑦ 대회 지원업체 및 의료인력 숙식비 | B10: ='세부산출 내역서'!G56 -> 11340000 | C10: =B10*0.1 -> 1134000 | D10: =SUM(B10:C10) -> 12474000 | E10: · 지원업체 및 의료인력 숙식지원: 108객실 / 108식
A11: ⑧ 대관료 (WT 행정사무실, 공항안내데스크) | B11: ='세부산출 내역서'!G59 -> 13167000 | C11: =B11*0.1 -> 1316700 | D11: =SUM(B11:C11) -> 14483700 | E11: · 세계태권도연맹 본부 행정사무실 대관비: 중회의실 1개소, 9일간 · 공항 안내데스크 임차료: 인천공항 터미널(T1, T2 각 1개소), 5일간
A12: 소계 | B12: =SUM(B4:B11) -> 454812000 | C12: =SUM(C4:C11) -> 45481200 | D12: =SUM(B12:C12) -> 500293200 | E12: (이행수수료는 각 예산의 10%임)
A13: ⑪ 총사업비(부가가치세 포함) | D13: =ROUND(D12,-4) -> 500290000 | E13: (천원 단위 이하 절삭)

Sheet 세부산출 내역서
A2: 춘천 2026 세계태권도품새선수권대회 사업비 세부 산출내역서
A3: 2026년 사업비 내역서 | H3: (단위:원)
A4: 항목 | B4: 구분 | C4: 규격 및 내용 | D4: 단가 | E4: 객실수/인원/횟수 | F4: 단위/일수 | G4: 금액 | H4: 비고
A5: 합계 | G5: =G62 -> 500290000 | H5: 대행비 및 부가세 포함
A6: 1. VIP 및 관계위원 (기술, 소청위원 및 본부임원 등) 숙식비 | B6: VIP(WT, KTA, ATU 기관장) | C6: 숙박비(1인실) | D6: 180000 | E6: 3 | F6: 5 | G6: =D6*E6*F6 -> 2700000
C7: 식비(조식) | D7: 20000 | E7: 3 | F7: 5 | G7: =D7*E7*F7 -> 300000
B8: VIP(초청외빈) | C8: 숙박비(1인실) | D8: 120000 | E8: 22 | F8: 5 | G8: =D8*E8*F8 -> 13200000
C9: 식비(조식) | D9: 20000 | E9: 22 | F9: 5 | G9: =D9*E9*F9 -> 2200000
B10: 기술임원(TD, 1명) | C10: 숙박비(1인실) | D10: 120000 | E10: 1 | F10: 9 | G10: =D10*E10*F10 -> 1080000
C11: 식비(조식) | D11: 20000 | E11: 1 | F11: 9 | G11: =D11*E11*F11 -> 180000
B12: 소청위원(CSB, 4명) | C12: 숙박비(1인실) | D12: 120000 | E12: 4 | F12: 5 | G12: =D12*E12*F12 -> 2400000
C13: 식비(조식) | D13: 20000 | E13: 4 | F13: 5 | G13: =D13*E13*F13 -> 400000
B14: 본부임원(CMS, WT, KTA) | C14: 숙박비(1인실) | D14: 90000 | E14: 38 | F14: 9 | G14: =D14*E14*F14 -> 30780000
C15: 식비(조식) | D15: 20000 | E15: 38 | F15: 9 | G15: =D15*E15*F15 -> 6840000
B16: 관련기관 직원 | C16: 숙박비(1인실) | D16: 90000 | E16: 19 | F16: 5 | G16: =D16*E16*F16 -> 8550000
C17: 식비(조식) | D17: 20000 | E17: 19 | F17: 5 | G17: =D17*E17*F17 -> 1900000
B18: 소계 | G18: =SUM(G6:G17) -> 70530000
A19: 2. 경기임원 및 국제심판 숙식비 | B19: 국제심판(50명) | C19: 숙박비(2인실) | D19: 80000 | E19: 25 | F19: 8 | G19: =D19*E19*F19 -> 16000000
C20: 식비 | D20: 30000 | E20: 25 | F20: 8 | G20: =D20*E20*F20 -> 6000000 | H20: 조식, 석식
B21: 경기임원(130명) | C21: 숙박비(2인실) | D21: 90000 | E21: 65 | F21: 5 | G21: =D21*E21*F21 -> 29250000
C22: 식비 | D22: 30000 | E22: 65 | F22: 5 | G22: =D22*E22*F22 -> 9750000 | H22: 조식, 석식
B23: 소계 | G23: =SUM(G19:G22) -> 61000000
A24: 3. 초청국가(선수단) 지원 | B24: 선수단 숙식지원 | C24: 숙박비(시범단) | D24: 90000 | E24: 12 | F24: 3 | G24: =D24*E24*F24 -> 3240000
C25: 식비(시범단) | D25: 30000 | E25: 12 | F25: 3 | G25: =D25*E25*F25 -> 1080000 | H25: 조식, 석식
C26: 숙박비(저소득국가 선수단) | D26: 90000 | E26: 30 | F26: 6 | G26: =D26*E26*F26 -> 16200000
C27: 식비(저소득국가 선수단) | D27: 30000 | E27: 30 | F27: 6 | G27: =D27*E27*F27 -> 5400000 | H27: 조식, 석식
B28: 소계 | G28: =SUM(G24:G27) -> 25920000
A29: 4. 수송운영 | B29: 항공료 지원 | C29: 기술위원 | D29: 2500000 | E29: 1 | F29: 2 | G29: =D29*E29*F29 -> 5000000
C30: 소청 및 경기위원 | D30: 2000000 | E30: 4 | F30: 2 | G30: =D30*E30*F30 -> 16000000
C31: 저소득국가 지원 | D31: 1000000 | E31: 20 | F31: 2 | G31: =D31*E31*F31 -> 40000000
B32: 차량 임차 | C32: 입출국수송(대형) / 선수단 | D32: 700000 | E32: 90 | F32: 1 | G32: =D32*E32*F32 -> 63000000
C33: 입출국수송(소형) / 기관직원 | D33: 300000 | E33: 24 | F33: 1 | G33: =D33*E33*F33 -> 7200000
C34: 입출국수송 / 국제심판, 경기임원 | D34: 500000 | E34: 30 | F34: 1 | G34: =D34*E34*F34 -> 15000000
C35: 셔틀수송 / 호텔 | D35: 500000 | E35: 80 | F35: 1 | G35: =D35*E35*F35 -> 40000000
C36: 셔틀수송 / 관내 순환관광 | D36: 500000 | E36: 10 | F36: 1 | G36: =D36*E36*F36 -> 5000000
C37: 셔틀수송 / 경기장 및 훈련장 | D37: 500000 | E37: 16 | F37: 1 | G37: =D37*E37*F37 -> 8000000
C38: 차량 렌트 / WT | D38: 250000 | E38: 50 | F38: 1 | G38: =D38*E38*F38 -> 12500000
B39: 소계 | G39: =SUM(G29:G38) -> 211700000
A40: 5. 인력운영 | B40: 지원인력 수당 | C40: 공항영접(통역·안내) | D40: 130000 | E40: 12 | F40: 5 | G40: =D40*E40*F40 -> 7800000
C41: 호텔데스크(통역·안내) | D41: 130000 | E41: 21 | F41: 10 | G41: =D41*E41*F41 -> 27300000
C42: 종합안내센터(통역·안내) | D42: 130000 | E42: 2 | F42: 9 | G42: =D42*E42*F42 -> 2340000
C43: 파견근무자(해외 연락, 모객등록) | D43: 2500000 | E43: 1 | F43: 3 | G43: =D43*E43*F43 -> 7500000 | H43: 3개월(7-9월)
B44: 소계 | G44: =SUM(G40:G43) -> 44940000
A45: 6.지원요원 숙식비 | B45: 지원요원 숙식비 | C45: 숙박비(공항영접요원) | D45: 90000 | E45: 6 | F45: 4 | G45: =D45*E45*F45 -> 2160000
C46: 식비(공항영접요원) | D46: 35000 | E46: 6 | F46: 4 | G46: =D46*E46*F46 -> 840000 | H46: 조식, 석식
C47: 숙박비(호텔데스크요원) | D47: 90000 | E47: 11 | F47: 9 | G47: =D47*E47*F47 -> 8910000
C48: 식비(호텔데스크요원) | D48: 35000 | E48: 11 | F48: 9 | G48: =D48*E48*F48 -> 3465000 | H48: 조식, 석식
C49: 숙박비(종합안내센터요원) | D49: 90000 | E49: 1 | F49: 8 | G49: =D49*E49*F49 -> 720000
C50: 식비(종합안내센터요원) | D50: 15000 | E50: 1 | F50: 8 | G50: =D50*E50*F50 -> 120000 | H50: 조식
B51: 소계 | G51: =SUM(G45:G50) -> 16215000
A52: 7. 대회 지원업체 및 의료인력 숙식비 | B52: 시스템 운영 및 홍보, 의료인력 숙식비 | C52: 숙박비(시스템 운영 인력) | D52: 90000 | E52: 10 | F52: 9 | G52: =D52*E52*F52 -> 8100000
C53: 식비(조식) | D53: 15000 | E53: 10 | F53: 9 | G53: =D53*E53*F53 -> 1350000
C54: 숙박비(의료인력) | D54: 90000 | E54: 3 | F54: 6 | G54: =D54*E54*F54 -> 1620000
C55: 식비(조식) | D55: 15000 | E55: 3 | F55: 6 | G55: =D55*E55*F55 -> 270000
B56: 소계 | G56: =SUM(G52:G55) -> 11340000
A57: 8. 대관 및 임차비 | B57: 본부 사무실 대관비 및 공항 안내데스크 임차료 | C57: 본부 사무실(중회의실) | D57: 750000 | E57: 1 | F57: 9 | G57: =D57*E57*F57 -> 6750000 | H57: 2일간
C58: 인천공항(T1, T2) 안내데스크 | D58: 641700 | E58: 2 | F58: 5 | G58: =D58*E58*F58 -> 6417000
B59: 소계 | G59: =SUM(G57:G58) -> 13167000
B60: 세부내역 합계 | G60: =SUM(G18+G23+G28+G39+G44+G51+G56+G59) -> 454812000
B61: 공식여행사 대행비 10% | G61: =G60*10% -> 45481200
B62: 총계(대행비 및 부가세 포함) | G62: =ROUND(SUM(G60:G61),-4) -> 500290000 | H62: 천원이하단위절삭
